BEGIN:VCALENDAR
VERSION:2.0
PRODID:-//Botanical Society of Namibia - ECPv6.15.20//NONSGML v1.0//EN
CALSCALE:GREGORIAN
METHOD:PUBLISH
X-ORIGINAL-URL:https://botsoc.org.na
X-WR-CALDESC:Events for Botanical Society of Namibia
REFRESH-INTERVAL;VALUE=DURATION:PT1H
X-Robots-Tag:noindex
X-PUBLISHED-TTL:PT1H
BEGIN:VTIMEZONE
TZID:Africa/Windhoek
BEGIN:STANDARD
TZOFFSETFROM:+0200
TZOFFSETTO:+0200
TZNAME:CAT
DTSTART:20250101T000000
END:STANDARD
END:VTIMEZONE
BEGIN:VEVENT
DTSTART;VALUE=DATE:20260202
DTEND;VALUE=DATE:20260203
DTSTAMP:20260424T105841
CREATED:20251118T135302Z
LAST-MODIFIED:20251118T135302Z
UID:2660-1769990400-1770076799@botsoc.org.na
SUMMARY:World Wetlands Day 2026
DESCRIPTION:World Wetlands Day is celebrated each year on 2 February to raise awareness about wetlands. This day also marks the anniversary of the Convention on Wetlands\, which was adopted as an international treaty in 1971.
URL:https://botsoc.org.na/event/world-wetlands-day-2026/
CATEGORIES:Designated days
ATTACH;FMTTYPE=image/jpeg:https://botsoc.org.na/wp-content/uploads/Etosha-with-water-Mendelsohn.jpeg
END:VEVENT
END:VCALENDAR