BEGIN:VCALENDAR
VERSION:2.0
PRODID:-//Botanical Society of Namibia - ECPv6.15.20//NONSGML v1.0//EN
CALSCALE:GREGORIAN
METHOD:PUBLISH
X-ORIGINAL-URL:https://botsoc.org.na
X-WR-CALDESC:Events for Botanical Society of Namibia
REFRESH-INTERVAL;VALUE=DURATION:PT1H
X-Robots-Tag:noindex
X-PUBLISHED-TTL:PT1H
BEGIN:VTIMEZONE
TZID:Africa/Windhoek
BEGIN:STANDARD
TZOFFSETFROM:+0200
TZOFFSETTO:+0200
TZNAME:CAT
DTSTART:20240101T000000
END:STANDARD
END:VTIMEZONE
BEGIN:VEVENT
DTSTART;TZID=Africa/Windhoek:20250913T083000
DTEND;TZID=Africa/Windhoek:20250913T104500
DTSTAMP:20260425T150754
CREATED:20250414T132046Z
LAST-MODIFIED:20250819T121922Z
UID:2381-1757752200-1757760300@botsoc.org.na
SUMMARY:Guided walk in the Botanic Garden
DESCRIPTION:When and where?\nUsually\, every second Saturday of the month\, from 08:00 (summer) 08:30 (winter) to 11:00 at the National Botanical Research Institute (NBR)\, 8 Orban street\, opposite WHS sports fields. \nWhat can I expect?\nA leisurely walk in the Botanic Garden; a “natural” garden. There are many benches to rest and enjoy the peace in the centre of Windhoek. Experienced guides inform about the indigenous flora of Namibia; their use\, distribution\, conservation status\, value. \nWhat should bring?\nPlease note increase in guiding fee: N$30 for non-members; members of the Society and children free. Wear walking shoes\, sunscreen and a hat\, bring water. Optional: binoculars to watch wildlife. \nOther information\nRefreshments (coffee\, tea\, muffins) are available after the walk. Donations are requested for refreshments. Relevant books (botanical) are offered for sale. T-shirts\, bags\, cards\, notepads are also on sale. Visit our Botshop pages to see the range of books and other items that we sell.
URL:https://botsoc.org.na/event/guided-walk-in-the-botanic-garden-202509/
LOCATION:8 Orban Street\, National Botanical Gardens\, Windhoek\, Namibia
CATEGORIES:Guided walks in the Botanic Garden
ATTACH;FMTTYPE=image/jpeg:https://botsoc.org.na/wp-content/uploads/BotSoc_GuidedWalk_250913_web.jpg
END:VEVENT
BEGIN:VEVENT
DTSTART;TZID=Africa/Windhoek:20251011T080000
DTEND;TZID=Africa/Windhoek:20251011T104500
DTSTAMP:20260425T150754
CREATED:20250414T132130Z
LAST-MODIFIED:20250917T091928Z
UID:2384-1760169600-1760179500@botsoc.org.na
SUMMARY:Guided walk in the Botanic Garden
DESCRIPTION:When and where?\nUsually\, every second Saturday of the month\, from 08:00 (summer) 08:30 (winter) to 11:00 at the National Botanical Research Institute (NBR)\, 8 Orban street\, opposite WHS sports fields. \nWhat can I expect?\nA leisurely walk in the Botanic Garden; a “natural” garden. There are many benches to rest and enjoy the peace in the centre of Windhoek. Experienced guides inform about the indigenous flora of Namibia; their use\, distribution\, conservation status\, value. \nWhat should bring?\nPlease note increase in guiding fee: N$30 for non-members; members of the Society and children free. Wear walking shoes\, sunscreen and a hat\, bring water. Optional: binoculars to watch wildlife. \nOther information\nRefreshments (coffee\, tea\, muffins) are available after the walk. Donations are requested for refreshments. Relevant books (botanical) are offered for sale. T-shirts\, bags\, cards\, notepads are also on sale. Visit our Botshop pages to see the range of books and other items that we sell.
URL:https://botsoc.org.na/event/guided-walk-in-the-botanic-garden-202510/
LOCATION:8 Orban Street\, National Botanical Gardens\, Windhoek\, Namibia
CATEGORIES:Guided walks in the Botanic Garden
ATTACH;FMTTYPE=image/jpeg:https://botsoc.org.na/wp-content/uploads/BotSoc_GuidedWalk_251011_web.jpg
END:VEVENT
BEGIN:VEVENT
DTSTART;TZID=Africa/Windhoek:20251108T080000
DTEND;TZID=Africa/Windhoek:20251108T104500
DTSTAMP:20260425T150754
CREATED:20250414T132203Z
LAST-MODIFIED:20250917T092039Z
UID:2386-1762588800-1762598700@botsoc.org.na
SUMMARY:Guided walk in the Botanic Garden
DESCRIPTION:When and where?\nUsually\, every second Saturday of the month\, from 08:00 (summer) 08:30 (winter) to 11:00 at the National Botanical Research Institute (NBR)\, 8 Orban street\, opposite WHS sports fields. \nWhat can I expect?\nA leisurely walk in the Botanic Garden; a “natural” garden. There are many benches to rest and enjoy the peace in the centre of Windhoek. Experienced guides inform about the indigenous flora of Namibia; their use\, distribution\, conservation status\, value. \nWhat should bring?\nPlease note increase in guiding fee: N$30 for non-members; members of the Society and children free. Wear walking shoes\, sunscreen and a hat\, bring water. Optional: binoculars to watch wildlife. \nOther information\nRefreshments (coffee\, tea\, muffins) are available after the walk. Donations are requested for refreshments. Relevant books (botanical) are offered for sale. T-shirts\, bags\, cards\, notepads are also on sale. Visit our Botshop pages to see the range of books and other items that we sell.
URL:https://botsoc.org.na/event/guided-walk-in-the-botanic-garden-202511/
LOCATION:8 Orban Street\, National Botanical Gardens\, Windhoek\, Namibia
CATEGORIES:Guided walks in the Botanic Garden
ATTACH;FMTTYPE=image/jpeg:https://botsoc.org.na/wp-content/uploads/BotSoc_GuidedWalk_251108.jpg
END:VEVENT
BEGIN:VEVENT
DTSTART;TZID=Africa/Windhoek:20251206T080000
DTEND;TZID=Africa/Windhoek:20251206T104500
DTSTAMP:20260425T150754
CREATED:20251106T083315Z
LAST-MODIFIED:20251117T075442Z
UID:2645-1765008000-1765017900@botsoc.org.na
SUMMARY:Guided walk in the Botanic Garden
DESCRIPTION:When and where?\nUsually\, every second Saturday of the month\, from 08:00 (summer) 08:30 (winter) to 11:00 at the National Botanical Research Institute (NBR)\, 8 Orban street\, opposite WHS sports fields. \nWhat can I expect?\nA leisurely walk in the Botanic Garden; a “natural” garden. There are many benches to rest and enjoy the peace in the centre of Windhoek. Experienced guides inform about the indigenous flora of Namibia; their use\, distribution\, conservation status\, value. \nWhat should bring?\nPlease note increase in guiding fee: N$30 for non-members; members of the Society and children free. Wear walking shoes\, sunscreen and a hat\, bring water. Optional: binoculars to watch wildlife. \nOther information\nRefreshments (coffee\, tea\, muffins) are available after the walk. Donations are requested for refreshments. Relevant books (botanical) are offered for sale. T-shirts\, bags\, cards\, notepads are also on sale. Visit our Botshop pages to see the range of books and other items that we sell.
URL:https://botsoc.org.na/event/guided-walk-in-the-botanic-garden/
LOCATION:8 Orban Street\, National Botanical Gardens\, Windhoek\, Namibia
CATEGORIES:Guided walks in the Botanic Garden
ATTACH;FMTTYPE=image/jpeg:https://botsoc.org.na/wp-content/uploads/BotSoc_Guided_Walk_251206_web.jpg
END:VEVENT
BEGIN:VEVENT
DTSTART;TZID=Africa/Windhoek:20260214T080000
DTEND;TZID=Africa/Windhoek:20260214T104500
DTSTAMP:20260425T150754
CREATED:20251114T144321Z
LAST-MODIFIED:20260202T131024Z
UID:2650-1771056000-1771065900@botsoc.org.na
SUMMARY:Guided walk in the Botanic Garden
DESCRIPTION:When and where?\nUsually\, every second Saturday of the month\, from 08:00 (summer) 08:30 (winter) to 11:00 at the National Botanical Research Institute (NBR)\, 8 Orban street\, opposite WHS sports fields. \nWhat can I expect?\nA leisurely walk in the Botanic Garden; a “natural” garden. There are many benches to rest and enjoy the peace in the centre of Windhoek. Experienced guides inform about the indigenous flora of Namibia; their use\, distribution\, conservation status\, value. \nWhat should bring?\nPlease note increase in guiding fee: N$30 for non-members; members of the Society and children free. Wear walking shoes\, sunscreen and a hat\, bring water. Optional: binoculars to watch wildlife. \nOther information\nRefreshments (coffee\, tea\, muffins) are available after the walk. Donations are requested for refreshments. Relevant books (botanical) are offered for sale. T-shirts\, bags\, cards\, notepads are also on sale. Visit our Botshop pages to see the range of books and other items that we sell.
URL:https://botsoc.org.na/event/guided-walk-in-the-botanic-garden-20260214/
LOCATION:8 Orban Street\, National Botanical Gardens\, Windhoek\, Namibia
CATEGORIES:Guided walks in the Botanic Garden
ATTACH;FMTTYPE=image/jpeg:https://botsoc.org.na/wp-content/uploads/BotSoc_GuidedWalk_2602-14_web.jpg
END:VEVENT
BEGIN:VEVENT
DTSTART;TZID=Africa/Windhoek:20260314T080000
DTEND;TZID=Africa/Windhoek:20260314T104500
DTSTAMP:20260425T150754
CREATED:20251114T144349Z
LAST-MODIFIED:20260129T144802Z
UID:2652-1773475200-1773485100@botsoc.org.na
SUMMARY:Guided walk in the Botanic Garden
DESCRIPTION:When and where?\nUsually\, every second Saturday of the month\, from 08:00 (summer) 08:30 (winter) to 11:00 at the National Botanical Research Institute (NBR)\, 8 Orban street\, opposite WHS sports fields. \nWhat can I expect?\nA leisurely walk in the Botanic Garden; a “natural” garden. There are many benches to rest and enjoy the peace in the centre of Windhoek. Experienced guides inform about the indigenous flora of Namibia; their use\, distribution\, conservation status\, value. \nWhat should bring?\nPlease note increase in guiding fee: N$30 for non-members; members of the Society and children free. Wear walking shoes\, sunscreen and a hat\, bring water. Optional: binoculars to watch wildlife. \nOther information\nRefreshments (coffee\, tea\, muffins) are available after the walk. Donations are requested for refreshments. Relevant books (botanical) are offered for sale. T-shirts\, bags\, cards\, notepads are also on sale. Visit our Botshop pages to see the range of books and other items that we sell.
URL:https://botsoc.org.na/event/guided-walk-in-the-botanic-garden-20260314/
LOCATION:8 Orban Street\, National Botanical Gardens\, Windhoek\, Namibia
CATEGORIES:Guided walks in the Botanic Garden
ATTACH;FMTTYPE=image/jpeg:https://botsoc.org.na/wp-content/uploads/BotSoc_GuidedWalk_260314_web.jpg
END:VEVENT
BEGIN:VEVENT
DTSTART;TZID=Africa/Windhoek:20260411T080000
DTEND;TZID=Africa/Windhoek:20260411T104500
DTSTAMP:20260425T150754
CREATED:20251114T144420Z
LAST-MODIFIED:20260129T144844Z
UID:2655-1775894400-1775904300@botsoc.org.na
SUMMARY:Guided walk in the Botanic Garden
DESCRIPTION:When and where?\nUsually\, every second Saturday of the month\, from 08:00 (summer) 08:30 (winter) to 11:00 at the National Botanical Research Institute (NBR)\, 8 Orban street\, opposite WHS sports fields. \nWhat can I expect?\nA leisurely walk in the Botanic Garden; a “natural” garden. There are many benches to rest and enjoy the peace in the centre of Windhoek. Experienced guides inform about the indigenous flora of Namibia; their use\, distribution\, conservation status\, value. \nWhat should bring?\nPlease note increase in guiding fee: N$30 for non-members; members of the Society and children free. Wear walking shoes\, sunscreen and a hat\, bring water. Optional: binoculars to watch wildlife. \nOther information\nRefreshments (coffee\, tea\, muffins) are available after the walk. Donations are requested for refreshments. Relevant books (botanical) are offered for sale. T-shirts\, bags\, cards\, notepads are also on sale. Visit our Botshop pages to see the range of books and other items that we sell.
URL:https://botsoc.org.na/event/guided-walk-in-the-botanic-garden-20260411/
LOCATION:8 Orban Street\, National Botanical Gardens\, Windhoek\, Namibia
CATEGORIES:Guided walks in the Botanic Garden
ATTACH;FMTTYPE=image/jpeg:https://botsoc.org.na/wp-content/uploads/BotSoc_GuidedWalk_260411_web.jpg
END:VEVENT
BEGIN:VEVENT
DTSTART;TZID=Africa/Windhoek:20260509T080000
DTEND;TZID=Africa/Windhoek:20260509T104500
DTSTAMP:20260425T150754
CREATED:20251114T144443Z
LAST-MODIFIED:20260414T071922Z
UID:2657-1778313600-1778323500@botsoc.org.na
SUMMARY:Guided walk in the Botanic Garden
DESCRIPTION:When and where?\nUsually\, every second Saturday of the month\, from 08:00 (summer) 08:30 (winter) to 11:00 at the National Botanical Research Institute (NBR)\, 8 Orban street\, opposite WHS sports fields. \nWhat can I expect?\nA leisurely walk in the Botanic Garden; a “natural” garden. There are many benches to rest and enjoy the peace in the centre of Windhoek. Experienced guides inform about the indigenous flora of Namibia; their use\, distribution\, conservation status\, value. \nWhat should bring?\nPlease note increase in guiding fee: N$30 for non-members; members of the Society and children free. Wear walking shoes\, sunscreen and a hat\, bring water. Optional: binoculars to watch wildlife. \nOther information\nRefreshments (coffee\, tea\, muffins) are available after the walk. Donations are requested for refreshments. Relevant books (botanical) are offered for sale. T-shirts\, bags\, cards\, notepads are also on sale. Visit our Botshop pages to see the range of books and other items that we sell.
URL:https://botsoc.org.na/event/guided-walk-in-the-botanic-garden-20260509/
LOCATION:8 Orban Street\, National Botanical Gardens\, Windhoek\, Namibia
CATEGORIES:Guided walks in the Botanic Garden
ATTACH;FMTTYPE=image/jpeg:https://botsoc.org.na/wp-content/uploads/BotSoc_GuidedWalk_260509_web.jpeg
END:VEVENT
END:VCALENDAR