BEGIN:VCALENDAR
VERSION:2.0
PRODID:-//Botanical Society of Namibia - ECPv6.15.20//NONSGML v1.0//EN
CALSCALE:GREGORIAN
METHOD:PUBLISH
X-ORIGINAL-URL:https://botsoc.org.na
X-WR-CALDESC:Events for Botanical Society of Namibia
REFRESH-INTERVAL;VALUE=DURATION:PT1H
X-Robots-Tag:noindex
X-PUBLISHED-TTL:PT1H
BEGIN:VTIMEZONE
TZID:Africa/Windhoek
BEGIN:STANDARD
TZOFFSETFROM:+0200
TZOFFSETTO:+0200
TZNAME:CAT
DTSTART:20230101T000000
END:STANDARD
END:VTIMEZONE
BEGIN:VEVENT
DTSTART;TZID=Africa/Windhoek:20260319T180000
DTEND;TZID=Africa/Windhoek:20260319T180000
DTSTAMP:20260418T110051
CREATED:20260226T071129Z
LAST-MODIFIED:20260304T173908Z
UID:2739-1773943200-1773943200@botsoc.org.na
SUMMARY:Annual General Meeting
DESCRIPTION:You are cordially invited to the Annual General Meeting of the Botanical Society of Namibia to  be held on Thursday 19 March 2026 at 18h00 in the Lecture Hall of the NBRI \nThe purpose of the meeting is: \n\nTo consider and adopt the Chairperson’s Report\nTo consider and adopt the Financial Statement of the Society\nTo consider and vote on any other business if applicable\nTo record Votes of Thanks\nTo elect CAPP members for the ensuing two years\n\nThe Agenda\, Minutes of the Annual General Meeting held in 2025\, Financial Statement and Reports will be sent to members and will be available on request. \nA reminder that only paid up members may vote at the AGM and that a quorum is required to constitute the meeting.
URL:https://botsoc.org.na/event/annual-general-meeting-2026/
CATEGORIES:Other
ATTACH;FMTTYPE=image/jpeg:https://botsoc.org.na/wp-content/uploads/2026-Annual-General-Meeting.jpg
END:VEVENT
BEGIN:VEVENT
DTSTART;TZID=Africa/Windhoek:20250313T180000
DTEND;TZID=Africa/Windhoek:20250313T200000
DTSTAMP:20260418T110051
CREATED:20250227T101450Z
LAST-MODIFIED:20250414T140635Z
UID:2352-1741888800-1741896000@botsoc.org.na
SUMMARY:Botsoc AGM & Illustrated talk: Plants that greet you
DESCRIPTION:“Plants that greet you”\nby BARB CURTIS\nBarb will introduce you to a few plant genera and families that are easy to recognise\, and point out a few pitfalls. \nRefreshments after the talk. \nNBRI Lecture Room\nNational Botanical Research Institute (NBRI)\,\n8 Orban street\, opposite WHS sports fields \n  \nYou can download the Chairperson’s report for the period January – December 2024 here.
URL:https://botsoc.org.na/event/illustrated-talk-plants-that-greet-you/
LOCATION:8 Orban Street\, National Botanical Gardens\, Windhoek\, Namibia
CATEGORIES:Illustrated talks,Other
ATTACH;FMTTYPE=image/jpeg:https://botsoc.org.na/wp-content/uploads/BotSoc_AGMIllustTalk_250313_web.jpg
END:VEVENT
BEGIN:VEVENT
DTSTART;VALUE=DATE:20241209
DTEND;VALUE=DATE:20250107
DTSTAMP:20260418T110051
CREATED:20250203T074555Z
LAST-MODIFIED:20250203T074555Z
UID:2318-1733702400-1736207999@botsoc.org.na
SUMMARY:Festive Season 2024-2025
DESCRIPTION:The CAPP (committee) of Botsoc wishes all members and friends a very peaceful\, safe and enjoyable festive season.  We will not be hosting any more activities this year.  Our first activity for 2025 will be a guided walk in the Botanical Garden on 8 February.
URL:https://botsoc.org.na/event/festive-season-2024-2025/
CATEGORIES:Other
ATTACH;FMTTYPE=image/jpeg:https://botsoc.org.na/wp-content/uploads/Botsoc_Christmas24_final_web.jpg
END:VEVENT
BEGIN:VEVENT
DTSTART;TZID=Africa/Windhoek:20240418T180000
DTEND;TZID=Africa/Windhoek:20240418T190000
DTSTAMP:20260418T110051
CREATED:20241030T095219Z
LAST-MODIFIED:20241107T063457Z
UID:841-1713463200-1713466800@botsoc.org.na
SUMMARY:Annual General Meeting
DESCRIPTION:Botanical Society Annual General Meeting\, to be held at NBRI. Importantly\, we need a quorum for the business of the past year to be accepted. \nFollowed by an illustrated presentation on lilies by Coleen Mannheimer.
URL:https://botsoc.org.na/event/annual-general-meeting/
LOCATION:8 Orban Street\, National Botanical Gardens\, Windhoek\, Namibia
CATEGORIES:Other
END:VEVENT
END:VCALENDAR