BEGIN:VCALENDAR
VERSION:2.0
PRODID:-//Botanical Society of Namibia - ECPv6.15.20//NONSGML v1.0//EN
CALSCALE:GREGORIAN
METHOD:PUBLISH
X-ORIGINAL-URL:https://botsoc.org.na
X-WR-CALDESC:Events for Botanical Society of Namibia
REFRESH-INTERVAL;VALUE=DURATION:PT1H
X-Robots-Tag:noindex
X-PUBLISHED-TTL:PT1H
BEGIN:VTIMEZONE
TZID:Africa/Windhoek
BEGIN:STANDARD
TZOFFSETFROM:+0200
TZOFFSETTO:+0200
TZNAME:CAT
DTSTART:20250101T000000
END:STANDARD
END:VTIMEZONE
BEGIN:VEVENT
DTSTART;TZID=Africa/Windhoek:20260428T180000
DTEND;TZID=Africa/Windhoek:20260428T200000
DTSTAMP:20260424T121058
CREATED:20260407T075322Z
LAST-MODIFIED:20260423T092550Z
UID:2779-1777399200-1777406400@botsoc.org.na
SUMMARY:Illustrated presentation in SWAKOPMUND by Coleen Mannheimer
DESCRIPTION:18h00 in the Swakopmund Museum Lecture Hall  – Please use the side entrance \nAll welcome \nHosted by the Swakopmund Scientific Society and the Botanical Society. \nColeen Mannheimer will share her abundant knowledge and you can be sure it will be interesting\, informative and fun! \nContact Coleen on 081 127 2820  or Diana on 081 128 9031 \nRefreshments will be available afterwards. \nDonations towards expenses would be appreciated.
URL:https://botsoc.org.na/event/illustrated-presentation-in-swakopmund-by-coleen-mannheimer/
CATEGORIES:Illustrated talks
ATTACH;FMTTYPE=image/jpeg:https://botsoc.org.na/wp-content/uploads/asteraceae-talk.jpg
END:VEVENT
BEGIN:VEVENT
DTSTART;TZID=Africa/Windhoek:20260509T080000
DTEND;TZID=Africa/Windhoek:20260509T104500
DTSTAMP:20260424T121058
CREATED:20251114T144443Z
LAST-MODIFIED:20260414T071922Z
UID:2657-1778313600-1778323500@botsoc.org.na
SUMMARY:Guided walk in the Botanic Garden
DESCRIPTION:When and where?\nUsually\, every second Saturday of the month\, from 08:00 (summer) 08:30 (winter) to 11:00 at the National Botanical Research Institute (NBR)\, 8 Orban street\, opposite WHS sports fields. \nWhat can I expect?\nA leisurely walk in the Botanic Garden; a “natural” garden. There are many benches to rest and enjoy the peace in the centre of Windhoek. Experienced guides inform about the indigenous flora of Namibia; their use\, distribution\, conservation status\, value. \nWhat should bring?\nPlease note increase in guiding fee: N$30 for non-members; members of the Society and children free. Wear walking shoes\, sunscreen and a hat\, bring water. Optional: binoculars to watch wildlife. \nOther information\nRefreshments (coffee\, tea\, muffins) are available after the walk. Donations are requested for refreshments. Relevant books (botanical) are offered for sale. T-shirts\, bags\, cards\, notepads are also on sale. Visit our Botshop pages to see the range of books and other items that we sell.
URL:https://botsoc.org.na/event/guided-walk-in-the-botanic-garden-20260509/
LOCATION:8 Orban Street\, National Botanical Gardens\, Windhoek\, Namibia
CATEGORIES:Guided walks in the Botanic Garden
ATTACH;FMTTYPE=image/jpeg:https://botsoc.org.na/wp-content/uploads/BotSoc_GuidedWalk_260509_web.jpeg
END:VEVENT
BEGIN:VEVENT
DTSTART;TZID=Africa/Windhoek:20260521T190000
DTEND;TZID=Africa/Windhoek:20260521T200000
DTSTAMP:20260424T121058
CREATED:20260407T075751Z
LAST-MODIFIED:20260423T084157Z
UID:2781-1779390000-1779393600@botsoc.org.na
SUMMARY:Barb Curtis will repeat one of her previous presentations
DESCRIPTION:Due to the many holidays in May\, no new presentation will be given. However\, on our usual third Thursday\, Barb will repeat a presentation that she has given previously.   Details to follow.
URL:https://botsoc.org.na/event/barb-curtis-will-repeat-one-of-her-previous-presentations/
CATEGORIES:Illustrated talks
END:VEVENT
BEGIN:VEVENT
DTSTART;VALUE=DATE:20260522
DTEND;VALUE=DATE:20260523
DTSTAMP:20260424T121058
CREATED:20251118T135625Z
LAST-MODIFIED:20251118T135625Z
UID:2665-1779408000-1779494399@botsoc.org.na
SUMMARY:International Day for Biological Diversity 2026
DESCRIPTION:The United Nations has proclaimed May 22 The International Day for Biological Diversity (IDB) to increase understanding and awareness of biodiversity issues.
URL:https://botsoc.org.na/event/international-day-for-biological-diversity-2026/
CATEGORIES:Designated days
ATTACH;FMTTYPE=image/jpeg:https://botsoc.org.na/wp-content/uploads/Biodiversity.jpg
END:VEVENT
BEGIN:VEVENT
DTSTART;VALUE=DATE:20260605
DTEND;VALUE=DATE:20260606
DTSTAMP:20260424T121058
CREATED:20251118T135748Z
LAST-MODIFIED:20251118T135748Z
UID:2667-1780617600-1780703999@botsoc.org.na
SUMMARY:World Environment Day 2026
DESCRIPTION:World Environment Day\, held annually on 5 June\, brings together millions of people from across the globe\, engaging them in the effort to protect and restore the Earth.
URL:https://botsoc.org.na/event/world-environment-day-2026/
CATEGORIES:Designated days
ATTACH;FMTTYPE=image/jpeg:https://botsoc.org.na/wp-content/uploads/environment-day.jpeg
END:VEVENT
BEGIN:VEVENT
DTSTART;VALUE=DATE:20260617
DTEND;VALUE=DATE:20260618
DTSTAMP:20260424T121058
CREATED:20251118T135900Z
LAST-MODIFIED:20251118T135900Z
UID:2670-1781654400-1781740799@botsoc.org.na
SUMMARY:World Day to Combat Desertification and Drought 2026
DESCRIPTION:The World Day to Combat Desertification and Drought is observed every year to promote public awareness of international efforts to combat desertification. The day is a unique moment to remind everyone that land degradation neutrality is achievable through problem-solving\, strong community involvement and co-operation at all levels.
URL:https://botsoc.org.na/event/world-day-to-combat-desertification-and-drought-2026/
CATEGORIES:Designated days
ATTACH;FMTTYPE=image/jpeg:https://botsoc.org.na/wp-content/uploads/desertification-day.jpeg
END:VEVENT
BEGIN:VEVENT
DTSTART;TZID=Africa/Windhoek:20260618T190000
DTEND;TZID=Africa/Windhoek:20260618T200000
DTSTAMP:20260424T121058
CREATED:20260407T075933Z
LAST-MODIFIED:20260423T084227Z
UID:2783-1781809200-1781812800@botsoc.org.na
SUMMARY:Illustrated presentation by Frances Chase
DESCRIPTION:Watch this space for details
URL:https://botsoc.org.na/event/illustrated-presentation-by-frances-chase/
CATEGORIES:Illustrated talks
END:VEVENT
BEGIN:VEVENT
DTSTART;TZID=Africa/Windhoek:20260716T190000
DTEND;TZID=Africa/Windhoek:20260716T200000
DTSTAMP:20260424T121058
CREATED:20260407T080148Z
LAST-MODIFIED:20260423T084143Z
UID:2785-1784228400-1784232000@botsoc.org.na
SUMMARY:Illustrated presentation by Silke Rügheimer
DESCRIPTION:Silke will give an update on her !Nara project
URL:https://botsoc.org.na/event/illustrated-presentation-by-silke-rugheimer/
CATEGORIES:Illustrated talks
END:VEVENT
BEGIN:VEVENT
DTSTART;VALUE=DATE:20261006
DTEND;VALUE=DATE:20261007
DTSTAMP:20260424T121058
CREATED:20251118T140005Z
LAST-MODIFIED:20251118T140005Z
UID:2673-1791244800-1791331199@botsoc.org.na
SUMMARY:World Habitat Day 2026
DESCRIPTION:The United Nations designated the first Monday of October of every year as World Habitat Day to reflect on the state of our habitats\, and on the basic right of all to adequate shelter. The Day is also intended to remind the world that we all have the power and the responsibility to shape the future of our cities and towns.
URL:https://botsoc.org.na/event/world-habitat-day-2026/
CATEGORIES:Designated days
ATTACH;FMTTYPE=image/jpeg:https://botsoc.org.na/wp-content/uploads/habitat-day.jpeg
END:VEVENT
BEGIN:VEVENT
DTSTART;VALUE=DATE:20261009
DTEND;VALUE=DATE:20261010
DTSTAMP:20260424T121058
CREATED:20251118T140114Z
LAST-MODIFIED:20251118T140114Z
UID:2676-1791504000-1791590399@botsoc.org.na
SUMMARY:Arbor Day 2026
DESCRIPTION:Many countries\, including Namibia\, actively participate in planting trees on Arbor Day. Arbor Day is usually celebrated in spring; in Namibia we celebrate it on the second Friday in October.
URL:https://botsoc.org.na/event/arbor-day-2026/
CATEGORIES:Designated days
ATTACH;FMTTYPE=image/jpeg:https://botsoc.org.na/wp-content/uploads/arbor-day.jpeg
END:VEVENT
END:VCALENDAR