BEGIN:VCALENDAR
VERSION:2.0
PRODID:-//Botanical Society of Namibia - ECPv6.15.20//NONSGML v1.0//EN
CALSCALE:GREGORIAN
METHOD:PUBLISH
X-ORIGINAL-URL:https://botsoc.org.na
X-WR-CALDESC:Events for Botanical Society of Namibia
REFRESH-INTERVAL;VALUE=DURATION:PT1H
X-Robots-Tag:noindex
X-PUBLISHED-TTL:PT1H
BEGIN:VTIMEZONE
TZID:Africa/Windhoek
BEGIN:STANDARD
TZOFFSETFROM:+0200
TZOFFSETTO:+0200
TZNAME:CAT
DTSTART:20240101T000000
END:STANDARD
END:VTIMEZONE
BEGIN:VEVENT
DTSTART;VALUE=DATE:20250202
DTEND;VALUE=DATE:20250203
DTSTAMP:20260424T221220
CREATED:20241030T100229Z
LAST-MODIFIED:20241107T063924Z
UID:853-1738454400-1738540799@botsoc.org.na
SUMMARY:World Wetlands Day 2025
DESCRIPTION:World Wetlands Day is celebrated each year on 2 February to raise awareness about wetlands. This day also marks the anniversary of the Convention on Wetlands\, which was adopted as an international treaty in 1971.
URL:https://botsoc.org.na/event/world-wetlands-day-2025/
CATEGORIES:Designated days
ATTACH;FMTTYPE=image/jpeg:https://botsoc.org.na/wp-content/uploads/Etosha-with-water-Mendelsohn.jpeg
END:VEVENT
BEGIN:VEVENT
DTSTART;TZID=Africa/Windhoek:20250216T070000
DTEND;TZID=Africa/Windhoek:20250216T100000
DTSTAMP:20260424T221220
CREATED:20250129T150513Z
LAST-MODIFIED:20250211T064508Z
UID:2308-1739689200-1739700000@botsoc.org.na
SUMMARY:Guided walk on Farm Windhoek
DESCRIPTION:Join us at Farm Windhoek on Sunday.  After the rains there are lots of lovely flowers. Barb Curtis\, Frances Chase and Manda Steynberg will show you some of them.  Stay afterwards for coffee\, cooldrink\, snacks at the coffee shop. If you want to learn more about the amazing plants of the Khomas Hochland\, relevant books will be on sale (discount to Botsoc members). \nMeet at the Otjivero St entrance in Kleine Kuppe. Entrance to farm is N$50 for under 60s.  FoC to seniors. No guiding fee will be charged\, but Botsoc would appreciate a donation. \n 
URL:https://botsoc.org.na/event/guided-walk-on-farm-windhoek/
ATTACH;FMTTYPE=image/jpeg:https://botsoc.org.na/wp-content/uploads/BotSoc_GuidedWalk_250216_web.jpg
END:VEVENT
BEGIN:VEVENT
DTSTART;TZID=Africa/Windhoek:20250220T190000
DTEND;TZID=Africa/Windhoek:20250220T200000
DTSTAMP:20260424T221220
CREATED:20241209T081017Z
LAST-MODIFIED:20250227T104231Z
UID:2290-1740078000-1740081600@botsoc.org.na
SUMMARY:Endemic plants of the Sperrgebiet - What are their chances?
DESCRIPTION:An illustrated talk by Dr Antje Burke \nShe will explain the why\, what and where of plant endemism in the Tsau ǁKhaeb (Sperrgebiet) National Park. She will also review their chances of surviving the onslaught of multiple industrial and tourism developments\, climate change and the intricate interactions and possible consequences  that may follow. \n  \nDownload “a photographic guide to endemic plants of the Sperrgebiet\, as well as a series of posters.“
URL:https://botsoc.org.na/event/illustrated-talk/
LOCATION:8 Orban Street\, National Botanical Gardens\, Windhoek\, Namibia
CATEGORIES:Illustrated talks
ATTACH;FMTTYPE=image/jpeg:https://botsoc.org.na/wp-content/uploads/BotSoc_IllustrTalk_250220_web.jpg
END:VEVENT
END:VCALENDAR