BEGIN:VCALENDAR
VERSION:2.0
PRODID:-//Botanical Society of Namibia - ECPv6.15.20//NONSGML v1.0//EN
CALSCALE:GREGORIAN
METHOD:PUBLISH
X-WR-CALNAME:Botanical Society of Namibia
X-ORIGINAL-URL:https://botsoc.org.na
X-WR-CALDESC:Events for Botanical Society of Namibia
REFRESH-INTERVAL;VALUE=DURATION:PT1H
X-Robots-Tag:noindex
X-PUBLISHED-TTL:PT1H
BEGIN:VTIMEZONE
TZID:Africa/Windhoek
BEGIN:STANDARD
TZOFFSETFROM:+0200
TZOFFSETTO:+0200
TZNAME:CAT
DTSTART:20240101T000000
END:STANDARD
END:VTIMEZONE
BEGIN:VEVENT
DTSTART;TZID=Africa/Windhoek:20250412T080000
DTEND;TZID=Africa/Windhoek:20250412T104500
DTSTAMP:20260424T194503
CREATED:20250314T075740Z
LAST-MODIFIED:20250727T153059Z
UID:2364-1744444800-1744454700@botsoc.org.na
SUMMARY:Guided walk in the Botanic Garden
DESCRIPTION:Guided walk with Leon Lubbe\, specialist on grasses. \nWhen and where?\nUsually\, every second Saturday of the month\, from 08:00 (summer) 08:30 (winter) to 11:00 at the National Botanical Research Institute (NBR)\, 8 Orban street\, opposite WHS sports fields. \nWhat can I expect?\nA leisurely walk in the Botanic Garden; a “natural” garden. There are many benches to rest and enjoy the peace in the centre of Windhoek. Experienced guides inform about the indigenous flora of Namibia; their use\, distribution\, conservation status\, value. \nWhat should bring?\nPlease note increase in guiding fee: N$30 for non-members; members of the Society and children free. Wear walking shoes\, sunscreen and a hat\, bring water. Optional: binoculars to watch wildlife. \nOther information\nRefreshments (coffee\, tea\, muffins) are available after the walk. Donations are requested for refreshments. Relevant books (botanical) are offered for sale. T-shirts\, bags\, cards\, notepads are also on sale. Visit our Botshop pages to see the range of books and other items that we sell.
URL:https://botsoc.org.na/event/guided-walk-in-the-botanic-garden-202504/
LOCATION:8 Orban Street\, National Botanical Gardens\, Windhoek\, Namibia
CATEGORIES:Guided walks in the Botanic Garden
ATTACH;FMTTYPE=image/jpeg:https://botsoc.org.na/wp-content/uploads/BotSoc_GuidedWalk_250412_web.jpeg
END:VEVENT
BEGIN:VEVENT
DTSTART;VALUE=DATE:20250417
DTEND;VALUE=DATE:20250418
DTSTAMP:20260424T194503
CREATED:20250414T140809Z
LAST-MODIFIED:20250414T140941Z
UID:2388-1744848000-1744934399@botsoc.org.na
SUMMARY:No talk in April - Happy Easter!
DESCRIPTION:Due to the Easter weekend we won’t be having an illustrated talk in April. We look forward to seeing you again after Easter.
URL:https://botsoc.org.na/event/no-talk-in-april-happy-easter/
CATEGORIES:Illustrated talks
END:VEVENT
BEGIN:VEVENT
DTSTART;VALUE=DATE:20250422
DTEND;VALUE=DATE:20250423
DTSTAMP:20260424T194503
CREATED:20241030T101027Z
LAST-MODIFIED:20250214T105033Z
UID:865-1745280000-1745366399@botsoc.org.na
SUMMARY:Earth Day 2025
DESCRIPTION:EARTHDAY.ORG’s mission is to diversify\, educate and activate the environmental movement worldwide. Growing out of the first Earth Day in 1970\, EARTHDAY.ORG is the world’s largest recruiter to the environmental movement\, working with more than 150\,000 partners in over 192 countries to drive positive action for our planet.
URL:https://botsoc.org.na/event/earth-day-2025/
CATEGORIES:Designated days
ATTACH;FMTTYPE=image/jpeg:https://botsoc.org.na/wp-content/uploads/earth-day-2025.jpg
END:VEVENT
BEGIN:VEVENT
DTSTART;VALUE=DATE:20250425
DTEND;VALUE=DATE:20250429
DTSTAMP:20260424T194503
CREATED:20250307T142731Z
LAST-MODIFIED:20250325T143041Z
UID:2359-1745539200-1745884799@botsoc.org.na
SUMMARY:Windhoek Bioblitz
DESCRIPTION:Join us to record all the natural history of Windhoek and surrounding areas on the weekend of 25 to 28 April.  You don’t need to know a lot. All you need is a cell phone and a camera. It’s fun and it’s educational\, and it contributes to our knowledge of the fauna and flora of Namibia. For further details contact Silke Rugheimer 081 220 6994.  No costs involved.
URL:https://botsoc.org.na/event/windhoek-bioblitz/
ATTACH;FMTTYPE=image/jpeg:https://botsoc.org.na/wp-content/uploads/Whk-Bioblitz.jpg
END:VEVENT
END:VCALENDAR