BEGIN:VCALENDAR
VERSION:2.0
PRODID:-//Botanical Society of Namibia - ECPv6.15.20//NONSGML v1.0//EN
CALSCALE:GREGORIAN
METHOD:PUBLISH
X-WR-CALNAME:Botanical Society of Namibia
X-ORIGINAL-URL:https://botsoc.org.na
X-WR-CALDESC:Events for Botanical Society of Namibia
REFRESH-INTERVAL;VALUE=DURATION:PT1H
X-Robots-Tag:noindex
X-PUBLISHED-TTL:PT1H
BEGIN:VTIMEZONE
TZID:Africa/Windhoek
BEGIN:STANDARD
TZOFFSETFROM:+0200
TZOFFSETTO:+0200
TZNAME:CAT
DTSTART:20240101T000000
END:STANDARD
END:VTIMEZONE
BEGIN:VEVENT
DTSTART;TZID=Africa/Windhoek:20250510T080000
DTEND;TZID=Africa/Windhoek:20250510T104500
DTSTAMP:20260424T183512
CREATED:20250414T131645Z
LAST-MODIFIED:20250727T153013Z
UID:2372-1746864000-1746873900@botsoc.org.na
SUMMARY:Guided walk in the Botanic Garden
DESCRIPTION:When and where?\nUsually\, every second Saturday of the month\, from 08:00 (summer) 08:30 (winter) to 11:00 at the National Botanical Research Institute (NBR)\, 8 Orban street\, opposite WHS sports fields. \nWhat can I expect?\nA leisurely walk in the Botanic Garden; a “natural” garden. There are many benches to rest and enjoy the peace in the centre of Windhoek. Experienced guides inform about the indigenous flora of Namibia; their use\, distribution\, conservation status\, value. \nWhat should bring?\nPlease note increase in guiding fee: N$30 for non-members; members of the Society and children free. Wear walking shoes\, sunscreen and a hat\, bring water. Optional: binoculars to watch wildlife. \nOther information\nRefreshments (coffee\, tea\, muffins) are available after the walk. Donations are requested for refreshments. Relevant books (botanical) are offered for sale. T-shirts\, bags\, cards\, notepads are also on sale. Visit our Botshop pages to see the range of books and other items that we sell.
URL:https://botsoc.org.na/event/guided-walk-in-the-botanic-garden-202505/
LOCATION:8 Orban Street\, National Botanical Gardens\, Windhoek\, Namibia
CATEGORIES:Guided walks in the Botanic Garden
ATTACH;FMTTYPE=image/jpeg:https://botsoc.org.na/wp-content/uploads/BotSoc_GuidedWalk_250510_web.jpeg
END:VEVENT
BEGIN:VEVENT
DTSTART;VALUE=DATE:20250522
DTEND;VALUE=DATE:20250523
DTSTAMP:20260424T183512
CREATED:20241030T101337Z
LAST-MODIFIED:20241107T063909Z
UID:871-1747872000-1747958399@botsoc.org.na
SUMMARY:International Day for Biological Diversity 2025
DESCRIPTION:The United Nations has proclaimed May 22 The International Day for Biological Diversity (IDB) to increase understanding and awareness of biodiversity issues.
URL:https://botsoc.org.na/event/international-day-for-biological-diversity-2025/
CATEGORIES:Designated days
ATTACH;FMTTYPE=image/jpeg:https://botsoc.org.na/wp-content/uploads/Biodiversity.jpg
END:VEVENT
END:VCALENDAR