BEGIN:VCALENDAR
VERSION:2.0
PRODID:-//Botanical Society of Namibia - ECPv6.15.20//NONSGML v1.0//EN
CALSCALE:GREGORIAN
METHOD:PUBLISH
X-WR-CALNAME:Botanical Society of Namibia
X-ORIGINAL-URL:https://botsoc.org.na
X-WR-CALDESC:Events for Botanical Society of Namibia
REFRESH-INTERVAL;VALUE=DURATION:PT1H
X-Robots-Tag:noindex
X-PUBLISHED-TTL:PT1H
BEGIN:VTIMEZONE
TZID:Africa/Windhoek
BEGIN:STANDARD
TZOFFSETFROM:+0200
TZOFFSETTO:+0200
TZNAME:CAT
DTSTART:20240101T000000
END:STANDARD
END:VTIMEZONE
BEGIN:VEVENT
DTSTART;TZID=Africa/Windhoek:20250712T083000
DTEND;TZID=Africa/Windhoek:20250712T104500
DTSTAMP:20260424T135357
CREATED:20250414T131853Z
LAST-MODIFIED:20250730T072046Z
UID:2377-1752309000-1752317100@botsoc.org.na
SUMMARY:Guided walk in the Botanic Garden
DESCRIPTION:When and where?\nUsually\, every second Saturday of the month\, from 08:00 (summer) 08:30 (winter) to 11:00 at the National Botanical Research Institute (NBR)\, 8 Orban street\, opposite WHS sports fields. \nWhat can I expect?\nA leisurely walk in the Botanic Garden; a “natural” garden. There are many benches to rest and enjoy the peace in the centre of Windhoek. Experienced guides inform about the indigenous flora of Namibia; their use\, distribution\, conservation status\, value. \nWhat should bring?\nPlease note increase in guiding fee: N$30 for non-members; members of the Society and children free. Wear walking shoes\, sunscreen and a hat\, bring water. Optional: binoculars to watch wildlife. \nOther information\nRefreshments (coffee\, tea\, muffins) are available after the walk. Donations are requested for refreshments. Relevant books (botanical) are offered for sale. T-shirts\, bags\, cards\, notepads are also on sale. Visit our Botshop pages to see the range of books and other items that we sell.
URL:https://botsoc.org.na/event/guided-walk-in-the-botanic-garden-202507/
LOCATION:8 Orban Street\, National Botanical Gardens\, Windhoek\, Namibia
CATEGORIES:Guided walks in the Botanic Garden
ATTACH;FMTTYPE=image/jpeg:https://botsoc.org.na/wp-content/uploads/BotSoc_GuidedWalk_250712_web.jpg
END:VEVENT
BEGIN:VEVENT
DTSTART;TZID=Africa/Windhoek:20250717T190000
DTEND;TZID=Africa/Windhoek:20250717T200000
DTSTAMP:20260424T135357
CREATED:20250702T123049Z
LAST-MODIFIED:20250704T115253Z
UID:2411-1752778800-1752782400@botsoc.org.na
SUMMARY:Illustrated talk on Terms used in the Invasive Alien World
DESCRIPTION:Illustrated talk by Herta Kolberg \nThursday 17 July \nTime: 19h00  \nNational Botanic Research Institute\, 8 Orban Street \nRefreshments will be available afterwards \nAll welcome
URL:https://botsoc.org.na/event/illustrated-presentation-on-terms-used-in-the-invasive-alien-world/
LOCATION:8 Orban Street\, National Botanical Gardens\, Windhoek\, Namibia
CATEGORIES:Illustrated talks
ATTACH;FMTTYPE=image/jpeg:https://botsoc.org.na/wp-content/uploads/BotSoc_IllustTalk_250717_web.jpeg
END:VEVENT
END:VCALENDAR