BEGIN:VCALENDAR
VERSION:2.0
PRODID:-//Botanical Society of Namibia - ECPv6.15.20//NONSGML v1.0//EN
CALSCALE:GREGORIAN
METHOD:PUBLISH
X-WR-CALNAME:Botanical Society of Namibia
X-ORIGINAL-URL:https://botsoc.org.na
X-WR-CALDESC:Events for Botanical Society of Namibia
REFRESH-INTERVAL;VALUE=DURATION:PT1H
X-Robots-Tag:noindex
X-PUBLISHED-TTL:PT1H
BEGIN:VTIMEZONE
TZID:Africa/Windhoek
BEGIN:STANDARD
TZOFFSETFROM:+0200
TZOFFSETTO:+0200
TZNAME:CAT
DTSTART:20240101T000000
END:STANDARD
END:VTIMEZONE
BEGIN:VEVENT
DTSTART;TZID=Africa/Windhoek:20250911T190000
DTEND;TZID=Africa/Windhoek:20250911T200000
DTSTAMP:20260424T132332
CREATED:20250908T080628Z
LAST-MODIFIED:20250922T074645Z
UID:2513-1757617200-1757620800@botsoc.org.na
SUMMARY:Illustrated talk - The Champion Tree Project
DESCRIPTION:Illustrated talk by Carol Steenkamp \nIn South Africa\, the Department of Agriculture\, Forestry and Fisheries is the custodian of the Champion Trees of South Africa project\, an initiative dedicated to identifying the largest specimens of various tree species\, as well as those with notable historical or cultural significance. Namibia prides itself with several such trees. \nCarol is keen to initiate a Champion Trees of Namibia project\, bringing us in line with these international efforts in dendrology. \nThursday 11 September \nTime: 19h00  \nNational Botanic Research Institute\, 8 Orban Street \nRefreshments will be available afterwards \nAll welcome
URL:https://botsoc.org.na/event/illustrated-talk-the-champion-tree-project/
LOCATION:8 Orban Street\, National Botanical Gardens\, Windhoek\, Namibia
CATEGORIES:Illustrated talks
ATTACH;FMTTYPE=image/jpeg:https://botsoc.org.na/wp-content/uploads/BotSoc_IllustTalk_250911_web.jpg
END:VEVENT
BEGIN:VEVENT
DTSTART;TZID=Africa/Windhoek:20250913T083000
DTEND;TZID=Africa/Windhoek:20250913T104500
DTSTAMP:20260424T132332
CREATED:20250414T132046Z
LAST-MODIFIED:20250819T121922Z
UID:2381-1757752200-1757760300@botsoc.org.na
SUMMARY:Guided walk in the Botanic Garden
DESCRIPTION:When and where?\nUsually\, every second Saturday of the month\, from 08:00 (summer) 08:30 (winter) to 11:00 at the National Botanical Research Institute (NBR)\, 8 Orban street\, opposite WHS sports fields. \nWhat can I expect?\nA leisurely walk in the Botanic Garden; a “natural” garden. There are many benches to rest and enjoy the peace in the centre of Windhoek. Experienced guides inform about the indigenous flora of Namibia; their use\, distribution\, conservation status\, value. \nWhat should bring?\nPlease note increase in guiding fee: N$30 for non-members; members of the Society and children free. Wear walking shoes\, sunscreen and a hat\, bring water. Optional: binoculars to watch wildlife. \nOther information\nRefreshments (coffee\, tea\, muffins) are available after the walk. Donations are requested for refreshments. Relevant books (botanical) are offered for sale. T-shirts\, bags\, cards\, notepads are also on sale. Visit our Botshop pages to see the range of books and other items that we sell.
URL:https://botsoc.org.na/event/guided-walk-in-the-botanic-garden-202509/
LOCATION:8 Orban Street\, National Botanical Gardens\, Windhoek\, Namibia
CATEGORIES:Guided walks in the Botanic Garden
ATTACH;FMTTYPE=image/jpeg:https://botsoc.org.na/wp-content/uploads/BotSoc_GuidedWalk_250913_web.jpg
END:VEVENT
BEGIN:VEVENT
DTSTART;TZID=Africa/Windhoek:20250918T190000
DTEND;TZID=Africa/Windhoek:20250918T200000
DTSTAMP:20260424T132332
CREATED:20250704T114918Z
LAST-MODIFIED:20250819T122146Z
UID:2419-1758222000-1758225600@botsoc.org.na
SUMMARY:Illustrated talk - Saving elephants or trees or both
DESCRIPTION:Illustrated talk by Morgan Hauptfleisch \nThis talk will explore the controversy surrounding controlling elephant numbers within sustainable ecological limits through culling or trophy hunting. Elephants can have a devastating effect on plant and other biological diversity if their densities (not their numbers!) are too high. The outcry from animal-rightists against elephant population control brings the conundrum for conservationists whether they should preserve plant biodiversity and healthy ecosystems or individual elephants’ rights to a peaceful existence. But are there only two sides to this coin? The talk will draw on some insights from a study on habitat use by elephants in the Kunene region which considered the effect of elephant foraging around waterpoints on vegetation health\, structure and diversity. \nThursday 17 July \nTime: 19h00  \nNational Botanic Research Institute\, 8 Orban Street \nRefreshments will be available afterwards \nAll welcome
URL:https://botsoc.org.na/event/illustrated-talk-topic-to-be-confirmed/
LOCATION:8 Orban Street\, National Botanical Gardens\, Windhoek\, Namibia
CATEGORIES:Illustrated talks
ATTACH;FMTTYPE=image/jpeg:https://botsoc.org.na/wp-content/uploads/BotSoc_IllustTalk_250918_web.jpg
END:VEVENT
END:VCALENDAR